BEGIN:VCALENDAR
VERSION:2.0
PRODID:-//Better Days Animal League - ECPv6.15.20//NONSGML v1.0//EN
CALSCALE:GREGORIAN
METHOD:PUBLISH
X-WR-CALNAME:Better Days Animal League
X-ORIGINAL-URL:https://betterdaysanimalleague.org
X-WR-CALDESC:Events for Better Days Animal League
REFRESH-INTERVAL;VALUE=DURATION:PT1H
X-Robots-Tag:noindex
X-PUBLISHED-TTL:PT1H
BEGIN:VTIMEZONE
TZID:America/New_York
BEGIN:DAYLIGHT
TZOFFSETFROM:-0500
TZOFFSETTO:-0400
TZNAME:EDT
DTSTART:20250309T070000
END:DAYLIGHT
BEGIN:STANDARD
TZOFFSETFROM:-0400
TZOFFSETTO:-0500
TZNAME:EST
DTSTART:20251102T060000
END:STANDARD
BEGIN:DAYLIGHT
TZOFFSETFROM:-0500
TZOFFSETTO:-0400
TZNAME:EDT
DTSTART:20260308T070000
END:DAYLIGHT
BEGIN:STANDARD
TZOFFSETFROM:-0400
TZOFFSETTO:-0500
TZNAME:EST
DTSTART:20261101T060000
END:STANDARD
BEGIN:DAYLIGHT
TZOFFSETFROM:-0500
TZOFFSETTO:-0400
TZNAME:EDT
DTSTART:20270314T070000
END:DAYLIGHT
BEGIN:STANDARD
TZOFFSETFROM:-0400
TZOFFSETTO:-0500
TZNAME:EST
DTSTART:20271107T060000
END:STANDARD
END:VTIMEZONE
BEGIN:VEVENT
DTSTART;VALUE=DATE:20260807
DTEND;VALUE=DATE:20260810
DTSTAMP:20260425T121627
CREATED:20250423T152328Z
LAST-MODIFIED:20260125T000643Z
UID:7306-1786060800-1786319999@betterdaysanimalleague.org
SUMMARY:Twin Bridges Volunteer Opportunity
DESCRIPTION:Twin Bridges Volunteer Opportunity\n\n	Date & Time:\n			August 7\, 2026\n	  –\n	August 9\, 2026 \nDescription:\nJoin us for a volunteer opportunity with Twin Bridges.  \n\n	Twin Bridges Campground\n\n1345 Twin Bridge Rd\n	PA\n	17202\n	United States\n\n\n	+ Google Map \n\n					\n						\n	 \n\n\n\n\n	\n	Add to calendar	\n		\n	\n \n\n\n	Google Calendar\n\n\n	iCalendar\n\n\n	Outlook 365\n\n\n	Outlook Live\n\n\n\n	« All Events\n \n\n\n\n\n				Giving Tuesday – December 2\, 2025
URL:https://betterdaysanimalleague.org/event/twin-bridges-volunteer-opportunity/
LOCATION:Twin Bridges Campground\, 1345 Twin Bridge Rd\, PA\, 17202\, United States
ATTACH;FMTTYPE=image/jpeg:https://betterdaysanimalleague.org/wp-content/uploads/2025/04/BDAL-VOL-FEB2025.jpg
END:VEVENT
BEGIN:VEVENT
DTSTART;VALUE=DATE:20260901
DTEND;VALUE=DATE:20261001
DTSTAMP:20260425T121627
CREATED:20250423T152328Z
LAST-MODIFIED:20260125T002143Z
UID:7420-1788220800-1790812799@betterdaysanimalleague.org
SUMMARY:Calendar Lottery Drawing
DESCRIPTION:Calendar Lottery Drawing\nDate & Time:\nSeptember 30\, 2025 \nDescription:\nPurchase tickets for the upcoming Calendar Lottery Drawing by clicking the button below. \n\nPurchase Now\n \nBetter Days Animal League Thrift Store\n875 Lincoln Way West\, Ste. 109Chambersburg\,\n17202\nUnited States \n\n+ Google Map \n  \n\n\n\n\nAdd to calendar \n  \n\nGoogle Calendar\niCalendar\nOutlook 365\nOutlook Live\n\n« All Events \n\n\n\nTwin Bridges Volunteer Opportunity
URL:https://betterdaysanimalleague.org/event/calendar-lottery-drawing/
LOCATION:Better Days Animal League Thrift Store\, 875 Lincoln Way West\, Ste. 109\, Chambersburg\, 17202\, United States
ATTACH;FMTTYPE=image/png:https://betterdaysanimalleague.org/wp-content/uploads/2021/12/Purple-BDAL-Logo-2.png
END:VEVENT
BEGIN:VEVENT
DTSTART;VALUE=DATE:20261121
DTEND;VALUE=DATE:20261122
DTSTAMP:20260425T121627
CREATED:20250423T152328Z
LAST-MODIFIED:20260125T001241Z
UID:7699-1795219200-1795305599@betterdaysanimalleague.org
SUMMARY:Fido Raffle Drawing & Bake Sale
DESCRIPTION:Fido Raffle Drawing & Bake Sale\nDate & Time:\nNovember 22\, 2025 \nDescription:\nPurchase tickets for the upcoming Fido Booze Basket Raffle & Bake Sale. Purchase your tickets by clicking the button below. \n\nPurchase Now\n \nBetter Days Animal League Thrift Store\n875 Lincoln Way West\, Ste. 109 \nChambersburg\,\n17202\nUnited States \n+ Google Map \n  \n\n\n\n\nAdd to calendar \n \n\nGoogle Calendar\niCalendar\nOutlook 365\nOutlook Live\n\n« All Events \n\n\n\nCalendar Lottery Ticket – October 2025 \n\nChristmas Card Drive
URL:https://betterdaysanimalleague.org/event/fido-raffle-drawing-bake-sale/
LOCATION:Better Days Animal League Thrift Store\, 875 Lincoln Way West\, Ste. 109\, Chambersburg\, 17202\, United States
ATTACH;FMTTYPE=image/png:https://betterdaysanimalleague.org/wp-content/uploads/2021/12/Purple-BDAL-Logo-2.png
END:VEVENT
BEGIN:VEVENT
DTSTART;VALUE=DATE:20261201
DTEND;VALUE=DATE:20261202
DTSTAMP:20260425T121627
CREATED:20251202T050128Z
LAST-MODIFIED:20260125T000840Z
UID:7803-1796083200-1796169599@betterdaysanimalleague.org
SUMMARY:Giving Tuesday - December 1\, 2026
DESCRIPTION:Giving Tuesday – December 1\, 2026\n\n	Date & Time:\n			December 1\, 2026 \nDescription:\nGiving Tuesday is an annual day of generosity held on the Tuesday after Thanksgiving\, with this year’s on December 1\, 2026. Giving Tuesday encourages people to give back through donations\, volunteering\, or other acts of kindness!  Thank you for supporting Better Days Animal League \n					\n									Click Here to Donate\n					 \n\n	Better Days Animal League Thrift Store\n\n875 Lincoln Way West\, Ste. 109\n		\n		Chambersburg\,\n	17202\n	United States\n\n\n	+ Google Map \n\n					\n						\n	 \n\n\n\n				 \n\n	« All Events\n \n\n\n\n\n				Twin Bridges Volunteer Opportunity
URL:https://betterdaysanimalleague.org/event/givingtuesday/
LOCATION:Better Days Animal League Thrift Store\, 875 Lincoln Way West\, Ste. 109\, Chambersburg\, 17202\, United States
ATTACH;FMTTYPE=image/png:https://betterdaysanimalleague.org/wp-content/uploads/2025/04/GivingTuesday-logo.png
END:VEVENT
BEGIN:VEVENT
DTSTART;VALUE=DATE:20261201
DTEND;VALUE=DATE:20270101
DTSTAMP:20260425T121627
CREATED:20250928T194322Z
LAST-MODIFIED:20260125T000948Z
UID:7805-1796083200-1798761599@betterdaysanimalleague.org
SUMMARY:Christmas Card Drive
DESCRIPTION:🎄🐾 Spread Holiday Cheer to the Cats in our Care! 🐾🎄 \nThis season\, make spirits bright for the cats at Better Days Animal League! \nWe’re inviting you to send us a Christmas card—along with a donation of any amount. Every card and contribution helps provide food\, shelter\, and medical care for the cats in our care. \n📬 Mail your card and donation to: \nBetter Days Animal League \nPO Box 57 \nShippensburg\, PA 17257 \nOR drop off your cards and donations at our THRIFT STORE at 875 Lincoln Way West\, Chambersburg\, PA \n  \nLet’s fill our mailbox with love and hope this Christmas. \nYour kindness makes all the difference! ❤️🐱
URL:https://betterdaysanimalleague.org/event/christmas-card-drive/
END:VEVENT
END:VCALENDAR