BEGIN:VCALENDAR
VERSION:2.0
PRODID:-//Better Days Animal League - ECPv6.15.20//NONSGML v1.0//EN
CALSCALE:GREGORIAN
METHOD:PUBLISH
X-WR-CALNAME:Better Days Animal League
X-ORIGINAL-URL:https://betterdaysanimalleague.org
X-WR-CALDESC:Events for Better Days Animal League
REFRESH-INTERVAL;VALUE=DURATION:PT1H
X-Robots-Tag:noindex
X-PUBLISHED-TTL:PT1H
BEGIN:VTIMEZONE
TZID:America/New_York
BEGIN:DAYLIGHT
TZOFFSETFROM:-0500
TZOFFSETTO:-0400
TZNAME:EDT
DTSTART:20250309T070000
END:DAYLIGHT
BEGIN:STANDARD
TZOFFSETFROM:-0400
TZOFFSETTO:-0500
TZNAME:EST
DTSTART:20251102T060000
END:STANDARD
BEGIN:DAYLIGHT
TZOFFSETFROM:-0500
TZOFFSETTO:-0400
TZNAME:EDT
DTSTART:20260308T070000
END:DAYLIGHT
BEGIN:STANDARD
TZOFFSETFROM:-0400
TZOFFSETTO:-0500
TZNAME:EST
DTSTART:20261101T060000
END:STANDARD
BEGIN:DAYLIGHT
TZOFFSETFROM:-0500
TZOFFSETTO:-0400
TZNAME:EDT
DTSTART:20270314T070000
END:DAYLIGHT
BEGIN:STANDARD
TZOFFSETFROM:-0400
TZOFFSETTO:-0500
TZNAME:EST
DTSTART:20271107T060000
END:STANDARD
END:VTIMEZONE
BEGIN:VEVENT
DTSTART;TZID=America/New_York:20260228T120000
DTEND;TZID=America/New_York:20260228T160000
DTSTAMP:20260425T103530
CREATED:20260125T003316Z
LAST-MODIFIED:20260205T141342Z
UID:7925-1772280000-1772294400@betterdaysanimalleague.org
SUMMARY:World Spay Day - OPEN HOUSE
DESCRIPTION:Come to Better Days Animal League on Saturday\, February 28th to learn more about Better Days Animal League\, our adoptable cats\, volunteer opportunities\, and see a Trap-Neuter-Return (TNR) demo! \nEnjoy light refreshments\, enter to win a raffle\, and see the Thrift Store with a fun scavenger hunt \nAddress is 875 Lincoln Way West\, Chambersburg\, PA 17202 \n 
URL:https://betterdaysanimalleague.org/event/world-spay-day-open-house/
ATTACH;FMTTYPE=application/pdf:https://betterdaysanimalleague.org/wp-content/uploads/2026/01/2026-World-Spay_updated.pdf
END:VEVENT
BEGIN:VEVENT
DTSTART;VALUE=DATE:20260218
DTEND;VALUE=DATE:20260405
DTSTAMP:20260425T103530
CREATED:20260125T003905Z
LAST-MODIFIED:20260203T222436Z
UID:7928-1771372800-1775347199@betterdaysanimalleague.org
SUMMARY:Easter Egg fundraiser
DESCRIPTION:Better Days Animal League is selling easter eggs in 4 fabulous flavors.  Each egg is $1.50 and is available at BDAL Thrift Store or by ordering at info@betterdaysanimalleague.org; please call 717-217-9819 for more information \n  \nPEANUT BUTTER\nConfectioners sugar\, peanut butter\, cream cheese\, butter\, vani la\, salt\nCOCONUT\nConfectioners sugar\, coconut\, cream cheese\, butter\, vani la\, salt\nMOCHA\nConfectioners sugar\, cream cheese\, coffee\, butter\, instant pudding\, vani la\, salt\nChocolate contains milk and soy
URL:https://betterdaysanimalleague.org/event/easter-egg-fundraiser/
LOCATION:Better Days Animal League Thrift Store\, 875 Lincoln Way West\, Ste. 109\, Chambersburg\, 17202\, United States
ATTACH;FMTTYPE=application/pdf:https://betterdaysanimalleague.org/wp-content/uploads/2026/01/2026-Easter-Egg-Sale-1.pdf
END:VEVENT
BEGIN:VEVENT
DTSTART;VALUE=DATE:20260209
DTEND;VALUE=DATE:20260218
DTSTAMP:20260425T103530
CREATED:20260125T002832Z
LAST-MODIFIED:20260126T162921Z
UID:7923-1770595200-1771372799@betterdaysanimalleague.org
SUMMARY:Thrift Store - CLOSED 2/9 - 2/17 due to renovations
DESCRIPTION:Better Days Thrift Store\, at 875 Lincoln Way West\, will be closed February 9th – February 17th for renovations \nBecause of the renovations\, the BDAL Thrift Store will not be able to accept donations from January 28th – March 3rd \nWe apologize for any inconvenience this may cause
URL:https://betterdaysanimalleague.org/event/thrift-store-closed-due-to-renovations/
ATTACH;FMTTYPE=image/png:https://betterdaysanimalleague.org/wp-content/uploads/2026/01/16AFDBFA-E72E-4E39-A98D-FF14F14FB540.png
END:VEVENT
BEGIN:VEVENT
DTSTART;VALUE=DATE:20260128
DTEND;VALUE=DATE:20260304
DTSTAMP:20260425T103530
CREATED:20260125T002721Z
LAST-MODIFIED:20260126T163137Z
UID:7920-1769558400-1772582399@betterdaysanimalleague.org
SUMMARY:Thrift Store Renovations - No Donations Accepted until March 4\, 2026
DESCRIPTION:Better Days Thrift Store\, at 875 Lincoln Way West\, will be closed February 9th – February 17th for renovations \nBecause of the renovations\, the BDAL Thrift Store will not be able to accept donations from January 28th – March 3rd \nWe apologize for any inconvenience this may cause
URL:https://betterdaysanimalleague.org/event/thrift-store-renovations-no-donations-accepted/
ATTACH;FMTTYPE=image/png:https://betterdaysanimalleague.org/wp-content/uploads/2026/01/16AFDBFA-E72E-4E39-A98D-FF14F14FB540.png
END:VEVENT
BEGIN:VEVENT
DTSTART;VALUE=DATE:20260126
DTEND;VALUE=DATE:20260127
DTSTAMP:20260425T103530
CREATED:20260125T010951Z
LAST-MODIFIED:20260125T010951Z
UID:7943-1769385600-1769471999@betterdaysanimalleague.org
SUMMARY:BDAL Thrift Store - Closed due to Weather
DESCRIPTION:Better Days Thrift Store will be closed Monday\, January 26\, 2026 due to the impending snow storm \n 
URL:https://betterdaysanimalleague.org/event/bdal-thrift-store-closed-due-to-weather/
ATTACH;FMTTYPE=image/png:https://betterdaysanimalleague.org/wp-content/uploads/2026/01/image0.png
END:VEVENT
END:VCALENDAR