BEGIN:VCALENDAR
VERSION:2.0
PRODID:-//Better Days Animal League - ECPv6.15.20//NONSGML v1.0//EN
CALSCALE:GREGORIAN
METHOD:PUBLISH
X-ORIGINAL-URL:https://betterdaysanimalleague.org
X-WR-CALDESC:Events for Better Days Animal League
REFRESH-INTERVAL;VALUE=DURATION:PT1H
X-Robots-Tag:noindex
X-PUBLISHED-TTL:PT1H
BEGIN:VTIMEZONE
TZID:America/New_York
BEGIN:DAYLIGHT
TZOFFSETFROM:-0500
TZOFFSETTO:-0400
TZNAME:EDT
DTSTART:20250309T070000
END:DAYLIGHT
BEGIN:STANDARD
TZOFFSETFROM:-0400
TZOFFSETTO:-0500
TZNAME:EST
DTSTART:20251102T060000
END:STANDARD
BEGIN:DAYLIGHT
TZOFFSETFROM:-0500
TZOFFSETTO:-0400
TZNAME:EDT
DTSTART:20260308T070000
END:DAYLIGHT
BEGIN:STANDARD
TZOFFSETFROM:-0400
TZOFFSETTO:-0500
TZNAME:EST
DTSTART:20261101T060000
END:STANDARD
BEGIN:DAYLIGHT
TZOFFSETFROM:-0500
TZOFFSETTO:-0400
TZNAME:EDT
DTSTART:20270314T070000
END:DAYLIGHT
BEGIN:STANDARD
TZOFFSETFROM:-0400
TZOFFSETTO:-0500
TZNAME:EST
DTSTART:20271107T060000
END:STANDARD
END:VTIMEZONE
BEGIN:VEVENT
DTSTART;VALUE=DATE:20260901
DTEND;VALUE=DATE:20261001
DTSTAMP:20260425T071839
CREATED:20250423T152328Z
LAST-MODIFIED:20260125T002143Z
UID:7420-1788220800-1790812799@betterdaysanimalleague.org
SUMMARY:Calendar Lottery Drawing
DESCRIPTION:Calendar Lottery Drawing\nDate & Time:\nSeptember 30\, 2025 \nDescription:\nPurchase tickets for the upcoming Calendar Lottery Drawing by clicking the button below. \n\nPurchase Now\n \nBetter Days Animal League Thrift Store\n875 Lincoln Way West\, Ste. 109Chambersburg\,\n17202\nUnited States \n\n+ Google Map \n  \n\n\n\n\nAdd to calendar \n  \n\nGoogle Calendar\niCalendar\nOutlook 365\nOutlook Live\n\n« All Events \n\n\n\nTwin Bridges Volunteer Opportunity
URL:https://betterdaysanimalleague.org/event/calendar-lottery-drawing/
LOCATION:Better Days Animal League Thrift Store\, 875 Lincoln Way West\, Ste. 109\, Chambersburg\, 17202\, United States
ATTACH;FMTTYPE=image/png:https://betterdaysanimalleague.org/wp-content/uploads/2021/12/Purple-BDAL-Logo-2.png
END:VEVENT
END:VCALENDAR