BEGIN:VCALENDAR
VERSION:2.0
PRODID:-//Better Days Animal League - ECPv6.15.20//NONSGML v1.0//EN
CALSCALE:GREGORIAN
METHOD:PUBLISH
X-WR-CALNAME:Better Days Animal League
X-ORIGINAL-URL:https://betterdaysanimalleague.org
X-WR-CALDESC:Events for Better Days Animal League
REFRESH-INTERVAL;VALUE=DURATION:PT1H
X-Robots-Tag:noindex
X-PUBLISHED-TTL:PT1H
BEGIN:VTIMEZONE
TZID:America/New_York
BEGIN:DAYLIGHT
TZOFFSETFROM:-0500
TZOFFSETTO:-0400
TZNAME:EDT
DTSTART:20250309T070000
END:DAYLIGHT
BEGIN:STANDARD
TZOFFSETFROM:-0400
TZOFFSETTO:-0500
TZNAME:EST
DTSTART:20251102T060000
END:STANDARD
BEGIN:DAYLIGHT
TZOFFSETFROM:-0500
TZOFFSETTO:-0400
TZNAME:EDT
DTSTART:20260308T070000
END:DAYLIGHT
BEGIN:STANDARD
TZOFFSETFROM:-0400
TZOFFSETTO:-0500
TZNAME:EST
DTSTART:20261101T060000
END:STANDARD
BEGIN:DAYLIGHT
TZOFFSETFROM:-0500
TZOFFSETTO:-0400
TZNAME:EDT
DTSTART:20270314T070000
END:DAYLIGHT
BEGIN:STANDARD
TZOFFSETFROM:-0400
TZOFFSETTO:-0500
TZNAME:EST
DTSTART:20271107T060000
END:STANDARD
END:VTIMEZONE
BEGIN:VEVENT
DTSTART;VALUE=DATE:20260515
DTEND;VALUE=DATE:20260517
DTSTAMP:20260424T141318
CREATED:20260125T004505Z
LAST-MODIFIED:20260125T004505Z
UID:7932-1778803200-1778975999@betterdaysanimalleague.org
SUMMARY:Penn National Community Yard Sale
DESCRIPTION:
URL:https://betterdaysanimalleague.org/event/penn-national-community-yard-sale/
ATTACH;FMTTYPE=application/pdf:https://betterdaysanimalleague.org/wp-content/uploads/2026/01/BDAL-Logo.pdf
END:VEVENT
END:VCALENDAR